
    



	
	BEGIN:VCALENDAR
VERSION:2.0
PRODID:-//Social Cares - ECPv4.6.15//NONSGML v1.0//EN
CALSCALE:GREGORIAN
METHOD:PUBLISH
X-WR-CALNAME:Social Cares
X-ORIGINAL-URL:https://socialcares.org
X-WR-CALDESC:Events for Social Cares
BEGIN:VEVENT
DTSTART;VALUE=DATE:20150813
DTEND;VALUE=DATE:20150814
DTSTAMP:20260426T023208
CREATED:20150506T092946Z
LAST-MODIFIED:20150506T092946Z
UID:591-1439424000-1439510399@socialcares.org
SUMMARY:Dinner Party
DESCRIPTION:		Look\, my liege! Shut up! Will you shut up?! What a strange person. But you are dressed as one? You don’t frighten us\, English pig-dogs! Go and boil your bottoms\, sons of a silly person! I blow my nose at you\, so-called Ah-thoor Keeng\, you and all your silly English K-n-n-n-n-n-n-n-niggits! The Lady of the Lake\, her arm clad in the purest shimmering samite\, held aloft Excalibur from the bosom of the water\, signifying by divine providence that I\, Arthur\, was to carry Excalibur. That is why I am your king.		 \n
URL:https://socialcares.org/event/dinner-party/
LOCATION:655 Front St # 108\, Lahaina\, HI\, 96761\, United States
CATEGORIES:Party
END:VEVENT
END:VCALENDAR